BEGIN:VCALENDAR
VERSION:2.0
PRODID:-// - ECPv4.6//NONSGML v1.0//EN
CALSCALE:GREGORIAN
METHOD:PUBLISH
X-WR-CALNAME:
X-ORIGINAL-URL:https://www.noelgroup.ie
X-WR-CALDESC:Events for 
BEGIN:VEVENT
DTSTART;TZID=UTC+0:20171128T130000
DTEND;TZID=UTC+0:20171128T153000
DTSTAMP:20171107T125557
CREATED:20171027T081357Z
LAST-MODIFIED:20171106T091950Z
UID:112540-1511874000-1511883000@www.noelgroup.ie
SUMMARY:Manual Handling | 1pm - 3:30pm
DESCRIPTION:\n     jQuery( document ).ready(function() { jQuery('#iframe_33526').iFrameResize({ checkOrigin: false  }); setTimeout("if(jQuery('#iframe_33526').css('height') == '0px') { jQuery('#iframe_33526').css('height'\,'1500px'); }"\,2000); }); \n
URL:https://www.noelgroup.ie/course/manual-handling-830am-11am/2017-11-28/
LOCATION:Dublin 2\, Ireland
GEO:53.2982612;-6.180611
END:VEVENT
BEGIN:VEVENT
DTSTART;TZID=UTC+0:20171128T153000
DTEND;TZID=UTC+0:20171128T170000
DTSTAMP:20171107T125557
CREATED:20171027T123557Z
LAST-MODIFIED:20171106T092216Z
UID:112625-1511883000-1511888400@www.noelgroup.ie
SUMMARY:Food Safety Level 1 | 3:30pm - 5pm
DESCRIPTION:\n     jQuery( document ).ready(function() { jQuery('#iframe_61812').iFrameResize({ checkOrigin: false  }); setTimeout("if(jQuery('#iframe_61812').css('height') == '0px') { jQuery('#iframe_61812').css('height'\,'1500px'); }"\,2000); }); \n
URL:https://www.noelgroup.ie/course/food-safety-level-1-330pm-5pm-2017-11-07/2017-11-28/
LOCATION:Dublin 2\, Ireland
GEO:53.2982612;-6.180611
END:VEVENT
END:VCALENDAR