BEGIN:VCALENDAR
VERSION:2.0
PRODID:-// - ECPv4.6//NONSGML v1.0//EN
CALSCALE:GREGORIAN
METHOD:PUBLISH
X-WR-CALNAME:
X-ORIGINAL-URL:https://www.noelgroup.ie
X-WR-CALDESC:Events for 
BEGIN:VEVENT
DTSTART;TZID=UTC+0:20171123T100000
DTEND;TZID=UTC+0:20171123T123000
DTSTAMP:20171107T125445
CREATED:20171101T151904Z
LAST-MODIFIED:20171101T151904Z
UID:113175-1511431200-1511440200@www.noelgroup.ie
SUMMARY:Safeguarding of Vulnerable Adults 10am - 12:30pm
DESCRIPTION:\n     jQuery( document ).ready(function() { jQuery('#iframe_60434').iFrameResize({ checkOrigin: false  }); setTimeout("if(jQuery('#iframe_60434').css('height') == '0px') { jQuery('#iframe_60434').css('height'\,'1500px'); }"\,2000); }); \n
URL:https://www.noelgroup.ie/course/safeguarding-vulnerable-adults-10am-1230pm/
END:VEVENT
BEGIN:VEVENT
DTSTART;TZID=UTC+0:20171123T130000
DTEND;TZID=UTC+0:20171123T153000
DTSTAMP:20171107T125445
CREATED:20171101T152505Z
LAST-MODIFIED:20171101T152505Z
UID:113179-1511442000-1511451000@www.noelgroup.ie
SUMMARY:Infection Prevention & Control 1pm - 3:30pm
DESCRIPTION:\n     jQuery( document ).ready(function() { jQuery('#iframe_30943').iFrameResize({ checkOrigin: false  }); setTimeout("if(jQuery('#iframe_30943').css('height') == '0px') { jQuery('#iframe_30943').css('height'\,'1500px'); }"\,2000); }); \n
URL:https://www.noelgroup.ie/course/infection-prevention-control/
END:VEVENT
END:VCALENDAR