BEGIN:VCALENDAR
VERSION:2.0
PRODID:-// - ECPv4.6//NONSGML v1.0//EN
CALSCALE:GREGORIAN
METHOD:PUBLISH
X-WR-CALNAME:
X-ORIGINAL-URL:https://www.noelgroup.ie
X-WR-CALDESC:Events for 
BEGIN:VEVENT
DTSTART;TZID=UTC+0:20171122T083000
DTEND;TZID=UTC+0:20171122T110000
DTSTAMP:20171107T125424
CREATED:20171027T151504Z
LAST-MODIFIED:20171027T151652Z
UID:112655-1511339400-1511348400@www.noelgroup.ie
SUMMARY:Manual Handling | 8:30am - 11am
DESCRIPTION:\n     jQuery( document ).ready(function() { jQuery('#iframe_60525').iFrameResize({ checkOrigin: false  }); setTimeout("if(jQuery('#iframe_60525').css('height') == '0px') { jQuery('#iframe_60525').css('height'\,'1500px'); }"\,2000); }); \n
URL:https://www.noelgroup.ie/course/manual-handling-830am-11am-2/2017-11-22/
LOCATION:Dublin 2\, Ireland
GEO:53.2982612;-6.180611
END:VEVENT
BEGIN:VEVENT
DTSTART;TZID=UTC+0:20171122T100000
DTEND;TZID=UTC+0:20171122T123000
DTSTAMP:20171107T125424
CREATED:20171024T091348Z
LAST-MODIFIED:20171024T091348Z
UID:112161-1511344800-1511353800@www.noelgroup.ie
SUMMARY:Manual Handling | 10am - 12:30pm
DESCRIPTION:\n     jQuery( document ).ready(function() { jQuery('#iframe_83125').iFrameResize({ checkOrigin: false  }); setTimeout("if(jQuery('#iframe_83125').css('height') == '0px') { jQuery('#iframe_83125').css('height'\,'1500px'); }"\,2000); }); \n
URL:https://www.noelgroup.ie/course/manual-handling-10am-1230pm/
LOCATION:14 Penrose Wharf\, Penrose Quay\, Co Cork\, T23 W440
GEO:51.901042;-8.463632
X-APPLE-STRUCTURED-LOCATION;VALUE=URI;X-ADDRESS=14 Penrose Wharf Penrose Quay Co Cork T23 W440;X-APPLE-RADIUS=500;X-TITLE=14 Penrose Wharf\, Penrose Quay:geo:-8.463632,51.901042
END:VEVENT
BEGIN:VEVENT
DTSTART;TZID=UTC+0:20171122T110000
DTEND;TZID=UTC+0:20171122T123000
DTSTAMP:20171107T125424
CREATED:20171103T152636Z
LAST-MODIFIED:20171106T121201Z
UID:113525-1511348400-1511353800@www.noelgroup.ie
SUMMARY:Food Safety Level 1 | 11am - 12:30pm
DESCRIPTION:\n     jQuery( document ).ready(function() { jQuery('#iframe_82711').iFrameResize({ checkOrigin: false  }); setTimeout("if(jQuery('#iframe_82711').css('height') == '0px') { jQuery('#iframe_82711').css('height'\,'1500px'); }"\,2000); }); \n
URL:https://www.noelgroup.ie/course/food-safety-level-1-11am-1230pm-4/2017-11-22/
LOCATION:Dublin 2\, Ireland
GEO:53.2982612;-6.180611
END:VEVENT
BEGIN:VEVENT
DTSTART;TZID=UTC+0:20171122T130000
DTEND;TZID=UTC+0:20171122T143000
DTSTAMP:20171107T125424
CREATED:20171024T091904Z
LAST-MODIFIED:20171024T091904Z
UID:112163-1511355600-1511361000@www.noelgroup.ie
SUMMARY:Food Safety Level 1 | 1pm - 2:30pm
DESCRIPTION:\n     jQuery( document ).ready(function() { jQuery('#iframe_87532').iFrameResize({ checkOrigin: false  }); setTimeout("if(jQuery('#iframe_87532').css('height') == '0px') { jQuery('#iframe_87532').css('height'\,'1500px'); }"\,2000); }); \n
URL:https://www.noelgroup.ie/course/food-safety-level-1-1pm-230pm/
LOCATION:Penrose Wharf\, Penrose Quay\, Montenotte\, Cork\, Cork\, Ireland
GEO:51.901042;-8.463632
X-APPLE-STRUCTURED-LOCATION;VALUE=URI;X-ADDRESS=Penrose Wharf Penrose Quay Montenotte Cork Cork Ireland;X-APPLE-RADIUS=500;X-TITLE=Penrose Wharf\, Penrose Quay\, Montenotte\, Cork:geo:-8.463632,51.901042
END:VEVENT
BEGIN:VEVENT
DTSTART;TZID=UTC+0:20171122T140000
DTEND;TZID=UTC+0:20171122T163000
DTSTAMP:20171107T125424
CREATED:20171027T150543Z
LAST-MODIFIED:20171027T150543Z
UID:113545-1511359200-1511368200@www.noelgroup.ie
SUMMARY:Manual Handling | 2pm - 4:30pm
DESCRIPTION:\n     jQuery( document ).ready(function() { jQuery('#iframe_53225').iFrameResize({ checkOrigin: false  }); setTimeout("if(jQuery('#iframe_53225').css('height') == '0px') { jQuery('#iframe_53225').css('height'\,'1500px'); }"\,2000); }); \n
URL:https://www.noelgroup.ie/course/manual-handling-130pm-4pm/2017-11-22/
LOCATION:St. Johns House\, High Street\, Tallaght Village\, Dublin\, Leinster\, D24\, Ireland
GEO:53.2882388;-6.3638799
X-APPLE-STRUCTURED-LOCATION;VALUE=URI;X-ADDRESS=St. Johns House High Street Tallaght Village Dublin Leinster D24 Ireland;X-APPLE-RADIUS=500;X-TITLE=St. Johns House\, High Street\, Tallaght Village:geo:-6.3638799,53.2882388
END:VEVENT
BEGIN:VEVENT
DTSTART;TZID=UTC+0:20171122T150000
DTEND;TZID=UTC+0:20171122T173000
DTSTAMP:20171107T125424
CREATED:20171024T093259Z
LAST-MODIFIED:20171024T093259Z
UID:112165-1511362800-1511371800@www.noelgroup.ie
SUMMARY:Manual Handling | 3pm - 5:30pm
DESCRIPTION:\n     jQuery( document ).ready(function() { jQuery('#iframe_87101').iFrameResize({ checkOrigin: false  }); setTimeout("if(jQuery('#iframe_87101').css('height') == '0px') { jQuery('#iframe_87101').css('height'\,'1500px'); }"\,2000); }); \n
URL:https://www.noelgroup.ie/course/manual-handling-3pm-530pm/
LOCATION:14 Penrose Wharf\, Penrose Quay\, Co Cork\, T23 W440
GEO:51.901042;-8.463632
X-APPLE-STRUCTURED-LOCATION;VALUE=URI;X-ADDRESS=14 Penrose Wharf Penrose Quay Co Cork T23 W440;X-APPLE-RADIUS=500;X-TITLE=14 Penrose Wharf\, Penrose Quay:geo:-8.463632,51.901042
END:VEVENT
BEGIN:VEVENT
DTSTART;TZID=UTC+0:20171122T160000
DTEND;TZID=UTC+0:20171122T173000
DTSTAMP:20171107T125424
CREATED:20171019T095354Z
LAST-MODIFIED:20171106T120539Z
UID:113551-1511366400-1511371800@www.noelgroup.ie
SUMMARY:Food Safety Level 1 | 4pm - 5:30pm
DESCRIPTION:\n     jQuery( document ).ready(function() { jQuery('#iframe_73239').iFrameResize({ checkOrigin: false  }); setTimeout("if(jQuery('#iframe_73239').css('height') == '0px') { jQuery('#iframe_73239').css('height'\,'1500px'); }"\,2000); }); \n
URL:https://www.noelgroup.ie/course/food-safety-level-1-430pm-6pm-5-2017-11-01/2017-11-22/
LOCATION:St. Johns House\, High Street\, Tallaght Village\, Dublin\, Leinster\, D24\, Ireland
GEO:53.2882388;-6.3638799
X-APPLE-STRUCTURED-LOCATION;VALUE=URI;X-ADDRESS=St. Johns House High Street Tallaght Village Dublin Leinster D24 Ireland;X-APPLE-RADIUS=500;X-TITLE=St. Johns House\, High Street\, Tallaght Village:geo:-6.3638799,53.2882388
END:VEVENT
END:VCALENDAR