BEGIN:VCALENDAR
VERSION:2.0
PRODID:-// - ECPv4.6//NONSGML v1.0//EN
CALSCALE:GREGORIAN
METHOD:PUBLISH
X-WR-CALNAME:
X-ORIGINAL-URL:https://www.noelgroup.ie
X-WR-CALDESC:Events for 
BEGIN:VEVENT
DTSTART;TZID=UTC+0:20171117T083000
DTEND;TZID=UTC+0:20171117T110000
DTSTAMP:20171107T125324
CREATED:20171023T091022Z
LAST-MODIFIED:20171102T123326Z
UID:111951-1510907400-1510916400@www.noelgroup.ie
SUMMARY:Manual Handling | 8:30am - 11am
DESCRIPTION:\n     jQuery( document ).ready(function() { jQuery('#iframe_68041').iFrameResize({ checkOrigin: false  }); setTimeout("if(jQuery('#iframe_68041').css('height') == '0px') { jQuery('#iframe_68041').css('height'\,'1500px'); }"\,2000); }); \n
URL:https://www.noelgroup.ie/course/manual-handling-830am-11am-3/2017-11-17/
LOCATION:47 Dawson Street\, Dublin\, Dublin 2\, Ireland
GEO:53.3411552;-6.2584803
X-APPLE-STRUCTURED-LOCATION;VALUE=URI;X-ADDRESS=47 Dawson Street Dublin Dublin 2 Ireland;X-APPLE-RADIUS=500;X-TITLE=47 Dawson Street:geo:-6.2584803,53.3411552
END:VEVENT
BEGIN:VEVENT
DTSTART;TZID=UTC+0:20171117T110000
DTEND;TZID=UTC+0:20171117T123000
DTSTAMP:20171107T125324
CREATED:20171023T091224Z
LAST-MODIFIED:20171101T105814Z
UID:111957-1510916400-1510921800@www.noelgroup.ie
SUMMARY:Food Safety Level 1 | 11am - 12:30pm
DESCRIPTION:\n     jQuery( document ).ready(function() { jQuery('#iframe_62275').iFrameResize({ checkOrigin: false  }); setTimeout("if(jQuery('#iframe_62275').css('height') == '0px') { jQuery('#iframe_62275').css('height'\,'1500px'); }"\,2000); }); \n
URL:https://www.noelgroup.ie/course/food-safety-level-1-11am-1230pm/2017-11-17/
LOCATION:47 Dawson Street\, Dublin\, Dublin 2\, Ireland
GEO:53.3411552;-6.2584803
X-APPLE-STRUCTURED-LOCATION;VALUE=URI;X-ADDRESS=47 Dawson Street Dublin Dublin 2 Ireland;X-APPLE-RADIUS=500;X-TITLE=47 Dawson Street:geo:-6.2584803,53.3411552
END:VEVENT
BEGIN:VEVENT
DTSTART;TZID=UTC+0:20171117T140000
DTEND;TZID=UTC+0:20171117T163000
DTSTAMP:20171107T125324
CREATED:20171019T100108Z
LAST-MODIFIED:20171101T105341Z
UID:111426-1510927200-1510936200@www.noelgroup.ie
SUMMARY:Manual Handling | 2pm - 4:30pm
DESCRIPTION:\n     jQuery( document ).ready(function() { jQuery('#iframe_70720').iFrameResize({ checkOrigin: false  }); setTimeout("if(jQuery('#iframe_70720').css('height') == '0px') { jQuery('#iframe_70720').css('height'\,'1500px'); }"\,2000); }); \n
URL:https://www.noelgroup.ie/course/manual-handling-2pm-430pm-6/2017-11-17/
LOCATION:St. Johns House\, High Street\, Tallaght Village\, Dublin\, Leinster\, D24\, Ireland
GEO:53.2882388;-6.3638799
X-APPLE-STRUCTURED-LOCATION;VALUE=URI;X-ADDRESS=St. Johns House High Street Tallaght Village Dublin Leinster D24 Ireland;X-APPLE-RADIUS=500;X-TITLE=St. Johns House\, High Street\, Tallaght Village:geo:-6.3638799,53.2882388
END:VEVENT
BEGIN:VEVENT
DTSTART;TZID=UTC+0:20171117T140000
DTEND;TZID=UTC+0:20171117T163000
DTSTAMP:20171107T125324
CREATED:20171026T113746Z
LAST-MODIFIED:20171101T110155Z
UID:112449-1510927200-1510936200@www.noelgroup.ie
SUMMARY:Manual Handling | 2pm - 4:30pm
DESCRIPTION:\n     jQuery( document ).ready(function() { jQuery('#iframe_38950').iFrameResize({ checkOrigin: false  }); setTimeout("if(jQuery('#iframe_38950').css('height') == '0px') { jQuery('#iframe_38950').css('height'\,'1500px'); }"\,2000); }); \n
URL:https://www.noelgroup.ie/course/manual-handling-2pm-430pm/2017-11-17/
LOCATION:St. Johns House\, High Street\, Tallaght Village\, Dublin\, Leinster\, D24\, Ireland
GEO:53.2882388;-6.3638799
X-APPLE-STRUCTURED-LOCATION;VALUE=URI;X-ADDRESS=St. Johns House High Street Tallaght Village Dublin Leinster D24 Ireland;X-APPLE-RADIUS=500;X-TITLE=St. Johns House\, High Street\, Tallaght Village:geo:-6.3638799,53.2882388
END:VEVENT
BEGIN:VEVENT
DTSTART;TZID=UTC+0:20171117T163000
DTEND;TZID=UTC+0:20171117T180000
DTSTAMP:20171107T125324
CREATED:20171019T100355Z
LAST-MODIFIED:20171031T145758Z
UID:111433-1510936200-1510941600@www.noelgroup.ie
SUMMARY:Food Safety Level 1 | 4:30pm - 6pm
DESCRIPTION:\n     jQuery( document ).ready(function() { jQuery('#iframe_89363').iFrameResize({ checkOrigin: false  }); setTimeout("if(jQuery('#iframe_89363').css('height') == '0px') { jQuery('#iframe_89363').css('height'\,'1500px'); }"\,2000); }); \n
URL:https://www.noelgroup.ie/course/food-safety-level-1-430pm-6pm-6/2017-11-17/
LOCATION:St. Johns House\, High Street\, Tallaght Village\, Dublin\, Leinster\, D24\, Ireland
GEO:53.2882388;-6.3638799
X-APPLE-STRUCTURED-LOCATION;VALUE=URI;X-ADDRESS=St. Johns House High Street Tallaght Village Dublin Leinster D24 Ireland;X-APPLE-RADIUS=500;X-TITLE=St. Johns House\, High Street\, Tallaght Village:geo:-6.3638799,53.2882388
END:VEVENT
END:VCALENDAR