BEGIN:VCALENDAR
VERSION:2.0
PRODID:-// - ECPv4.6//NONSGML v1.0//EN
CALSCALE:GREGORIAN
METHOD:PUBLISH
X-WR-CALNAME:
X-ORIGINAL-URL:https://www.noelgroup.ie
X-WR-CALDESC:Events for 
BEGIN:VEVENT
DTSTART;TZID=UTC+0:20171115T083000
DTEND;TZID=UTC+0:20171115T110000
DTSTAMP:20171107T125304
CREATED:20171027T151504Z
LAST-MODIFIED:20171027T151652Z
UID:112654-1510734600-1510743600@www.noelgroup.ie
SUMMARY:Manual Handling | 8:30am - 11am
DESCRIPTION:\n     jQuery( document ).ready(function() { jQuery('#iframe_59940').iFrameResize({ checkOrigin: false  }); setTimeout("if(jQuery('#iframe_59940').css('height') == '0px') { jQuery('#iframe_59940').css('height'\,'1500px'); }"\,2000); }); \n
URL:https://www.noelgroup.ie/course/manual-handling-830am-11am-2/2017-11-15/
LOCATION:Dublin 2\, Ireland
GEO:53.2982612;-6.180611
END:VEVENT
BEGIN:VEVENT
DTSTART;TZID=UTC+0:20171115T110000
DTEND;TZID=UTC+0:20171115T123000
DTSTAMP:20171107T125304
CREATED:20171103T152636Z
LAST-MODIFIED:20171106T121201Z
UID:113524-1510743600-1510749000@www.noelgroup.ie
SUMMARY:Food Safety Level 1 | 11am - 12:30pm
DESCRIPTION:\n     jQuery( document ).ready(function() { jQuery('#iframe_28752').iFrameResize({ checkOrigin: false  }); setTimeout("if(jQuery('#iframe_28752').css('height') == '0px') { jQuery('#iframe_28752').css('height'\,'1500px'); }"\,2000); }); \n
URL:https://www.noelgroup.ie/course/food-safety-level-1-11am-1230pm-4/2017-11-15/
LOCATION:Dublin 2\, Ireland
GEO:53.2982612;-6.180611
END:VEVENT
BEGIN:VEVENT
DTSTART;TZID=UTC+0:20171115T140000
DTEND;TZID=UTC+0:20171115T163000
DTSTAMP:20171107T125304
CREATED:20171027T150543Z
LAST-MODIFIED:20171027T150543Z
UID:113544-1510754400-1510763400@www.noelgroup.ie
SUMMARY:Manual Handling | 2pm - 4:30pm
DESCRIPTION:\n     jQuery( document ).ready(function() { jQuery('#iframe_81075').iFrameResize({ checkOrigin: false  }); setTimeout("if(jQuery('#iframe_81075').css('height') == '0px') { jQuery('#iframe_81075').css('height'\,'1500px'); }"\,2000); }); \n
URL:https://www.noelgroup.ie/course/manual-handling-130pm-4pm/2017-11-15/
LOCATION:St. Johns House\, High Street\, Tallaght Village\, Dublin\, Leinster\, D24\, Ireland
GEO:53.2882388;-6.3638799
X-APPLE-STRUCTURED-LOCATION;VALUE=URI;X-ADDRESS=St. Johns House High Street Tallaght Village Dublin Leinster D24 Ireland;X-APPLE-RADIUS=500;X-TITLE=St. Johns House\, High Street\, Tallaght Village:geo:-6.3638799,53.2882388
END:VEVENT
BEGIN:VEVENT
DTSTART;TZID=UTC+0:20171115T160000
DTEND;TZID=UTC+0:20171115T173000
DTSTAMP:20171107T125304
CREATED:20171019T095354Z
LAST-MODIFIED:20171106T120539Z
UID:113550-1510761600-1510767000@www.noelgroup.ie
SUMMARY:Food Safety Level 1 | 4pm - 5:30pm
DESCRIPTION:\n     jQuery( document ).ready(function() { jQuery('#iframe_20162').iFrameResize({ checkOrigin: false  }); setTimeout("if(jQuery('#iframe_20162').css('height') == '0px') { jQuery('#iframe_20162').css('height'\,'1500px'); }"\,2000); }); \n
URL:https://www.noelgroup.ie/course/food-safety-level-1-430pm-6pm-5-2017-11-01/2017-11-15/
LOCATION:St. Johns House\, High Street\, Tallaght Village\, Dublin\, Leinster\, D24\, Ireland
GEO:53.2882388;-6.3638799
X-APPLE-STRUCTURED-LOCATION;VALUE=URI;X-ADDRESS=St. Johns House High Street Tallaght Village Dublin Leinster D24 Ireland;X-APPLE-RADIUS=500;X-TITLE=St. Johns House\, High Street\, Tallaght Village:geo:-6.3638799,53.2882388
END:VEVENT
END:VCALENDAR