BEGIN:VCALENDAR
VERSION:2.0
PRODID:-// - ECPv4.6//NONSGML v1.0//EN
CALSCALE:GREGORIAN
METHOD:PUBLISH
X-WR-CALNAME:
X-ORIGINAL-URL:https://www.noelgroup.ie
X-WR-CALDESC:Events for 
BEGIN:VEVENT
DTSTART;TZID=UTC+0:20171107T083000
DTEND;TZID=UTC+0:20171107T110000
DTSTAMP:20171107T124821
CREATED:20171103T121601Z
LAST-MODIFIED:20171103T121601Z
UID:113480-1510043400-1510052400@www.noelgroup.ie
SUMMARY:Manual Handling | 8:30am - 11am
DESCRIPTION:\n     jQuery( document ).ready(function() { jQuery('#iframe_50934').iFrameResize({ checkOrigin: false  }); setTimeout("if(jQuery('#iframe_50934').css('height') == '0px') { jQuery('#iframe_50934').css('height'\,'1500px'); }"\,2000); }); \n
URL:https://www.noelgroup.ie/course/manual-handling-830am-11am-6/
LOCATION:Dublin 2\, Ireland
GEO:53.2982612;-6.180611
END:VEVENT
BEGIN:VEVENT
DTSTART;TZID=UTC+0:20171107T110000
DTEND;TZID=UTC+0:20171107T120000
DTSTAMP:20171107T124821
CREATED:20171103T122042Z
LAST-MODIFIED:20171103T122042Z
UID:113482-1510052400-1510056000@www.noelgroup.ie
SUMMARY:Manual Handling (online) | 11am - 12pm
DESCRIPTION:\n     jQuery( document ).ready(function() { jQuery('#iframe_72671').iFrameResize({ checkOrigin: false  }); setTimeout("if(jQuery('#iframe_72671').css('height') == '0px') { jQuery('#iframe_72671').css('height'\,'1500px'); }"\,2000); }); \n
URL:https://www.noelgroup.ie/course/manual-handling-online-11am-12pm/
LOCATION:Dublin 2\, Ireland
GEO:53.2982612;-6.180611
END:VEVENT
BEGIN:VEVENT
DTSTART;TZID=UTC+0:20171107T130000
DTEND;TZID=UTC+0:20171107T153000
DTSTAMP:20171107T124821
CREATED:20171027T081357Z
LAST-MODIFIED:20171106T091950Z
UID:112537-1510059600-1510068600@www.noelgroup.ie
SUMMARY:Manual Handling | 1pm - 3:30pm
DESCRIPTION:\n     jQuery( document ).ready(function() { jQuery('#iframe_60747').iFrameResize({ checkOrigin: false  }); setTimeout("if(jQuery('#iframe_60747').css('height') == '0px') { jQuery('#iframe_60747').css('height'\,'1500px'); }"\,2000); }); \n
URL:https://www.noelgroup.ie/course/manual-handling-830am-11am/2017-11-07/
LOCATION:Dublin 2\, Ireland
GEO:53.2982612;-6.180611
END:VEVENT
BEGIN:VEVENT
DTSTART;TZID=UTC+0:20171107T153000
DTEND;TZID=UTC+0:20171107T170000
DTSTAMP:20171107T124821
CREATED:20171027T123557Z
LAST-MODIFIED:20171106T092215Z
UID:112589-1510068600-1510074000@www.noelgroup.ie
SUMMARY:Food Safety Level 1 | 3:30pm - 5pm
DESCRIPTION:\n     jQuery( document ).ready(function() { jQuery('#iframe_33985').iFrameResize({ checkOrigin: false  }); setTimeout("if(jQuery('#iframe_33985').css('height') == '0px') { jQuery('#iframe_33985').css('height'\,'1500px'); }"\,2000); }); \n
URL:https://www.noelgroup.ie/course/food-safety-level-1-330pm-5pm-2017-11-07/2017-11-07/
LOCATION:Dublin 2\, Ireland
GEO:53.2982612;-6.180611
END:VEVENT
END:VCALENDAR