BEGIN:VCALENDAR
VERSION:2.0
PRODID:-// - ECPv4.6//NONSGML v1.0//EN
CALSCALE:GREGORIAN
METHOD:PUBLISH
X-WR-CALNAME:
X-ORIGINAL-URL:https://www.noelgroup.ie
X-WR-CALDESC:Events for 
BEGIN:VEVENT
DTSTART;TZID=UTC+0:20171106T083000
DTEND;TZID=UTC+0:20171106T110000
DTSTAMP:20171107T125123
CREATED:20171024T160537Z
LAST-MODIFIED:20171103T153235Z
UID:112241-1509957000-1509966000@www.noelgroup.ie
SUMMARY:Manual Handling | 8:30am - 11am
DESCRIPTION:\n     jQuery( document ).ready(function() { jQuery('#iframe_62964').iFrameResize({ checkOrigin: false  }); setTimeout("if(jQuery('#iframe_62964').css('height') == '0px') { jQuery('#iframe_62964').css('height'\,'1500px'); }"\,2000); }); \n
URL:https://www.noelgroup.ie/course/manual-handling-830am-11am-5/2017-11-06/
END:VEVENT
BEGIN:VEVENT
DTSTART;TZID=UTC+0:20171106T110000
DTEND;TZID=UTC+0:20171106T123000
DTSTAMP:20171107T125123
CREATED:20171024T160650Z
LAST-MODIFIED:20171103T152928Z
UID:112248-1509966000-1509971400@www.noelgroup.ie
SUMMARY:Food Safety Level 1 | 11am - 12:30pm
DESCRIPTION:\n     jQuery( document ).ready(function() { jQuery('#iframe_64722').iFrameResize({ checkOrigin: false  }); setTimeout("if(jQuery('#iframe_64722').css('height') == '0px') { jQuery('#iframe_64722').css('height'\,'1500px'); }"\,2000); }); \n
URL:https://www.noelgroup.ie/course/food-safety-level-1-11am-1230pm-2/2017-11-06/
END:VEVENT
BEGIN:VEVENT
DTSTART;TZID=UTC+0:20171106T130000
DTEND;TZID=UTC+0:20171106T150000
DTSTAMP:20171107T125123
CREATED:20171102T170313Z
LAST-MODIFIED:20171102T170313Z
UID:113337-1509973200-1509980400@www.noelgroup.ie
SUMMARY:Manual Handling | 1pm - 3pm
DESCRIPTION:\n     jQuery( document ).ready(function() { jQuery('#iframe_99187').iFrameResize({ checkOrigin: false  }); setTimeout("if(jQuery('#iframe_99187').css('height') == '0px') { jQuery('#iframe_99187').css('height'\,'1500px'); }"\,2000); }); \n
URL:https://www.noelgroup.ie/course/manual-handling-1pm-3pm/
LOCATION:Dublin 2\, Ireland
GEO:53.2982612;-6.180611
END:VEVENT
BEGIN:VEVENT
DTSTART;TZID=UTC+0:20171106T153000
DTEND;TZID=UTC+0:20171106T170000
DTSTAMP:20171107T125123
CREATED:20171103T151617Z
LAST-MODIFIED:20171103T151617Z
UID:113509-1509982200-1509987600@www.noelgroup.ie
SUMMARY:Food Safety Level 1| 3:30pm - 5pm
DESCRIPTION:\n     jQuery( document ).ready(function() { jQuery('#iframe_39181').iFrameResize({ checkOrigin: false  }); setTimeout("if(jQuery('#iframe_39181').css('height') == '0px') { jQuery('#iframe_39181').css('height'\,'1500px'); }"\,2000); }); \n
URL:https://www.noelgroup.ie/course/food-safety-level-1-11am-1230pm-3/
LOCATION:Dublin 2\, Ireland
GEO:53.2982612;-6.180611
END:VEVENT
END:VCALENDAR