BEGIN:VCALENDAR
VERSION:2.0
PRODID:-// - ECPv4.6//NONSGML v1.0//EN
CALSCALE:GREGORIAN
METHOD:PUBLISH
X-WR-CALNAME:
X-ORIGINAL-URL:https://www.noelgroup.ie
X-WR-CALDESC:Events for 
BEGIN:VEVENT
DTSTART;TZID=UTC+0:20171103T083000
DTEND;TZID=UTC+0:20171103T110000
DTSTAMP:20171107T125108
CREATED:20171023T091022Z
LAST-MODIFIED:20171102T123326Z
UID:111947-1509697800-1509706800@www.noelgroup.ie
SUMMARY:Manual Handling | 8:30am - 11am
DESCRIPTION:\n     jQuery( document ).ready(function() { jQuery('#iframe_18327').iFrameResize({ checkOrigin: false  }); setTimeout("if(jQuery('#iframe_18327').css('height') == '0px') { jQuery('#iframe_18327').css('height'\,'1500px'); }"\,2000); }); \n
URL:https://www.noelgroup.ie/course/manual-handling-830am-11am-3/2017-11-03/
LOCATION:47 Dawson Street\, Dublin\, Dublin 2\, Ireland
GEO:53.3411552;-6.2584803
X-APPLE-STRUCTURED-LOCATION;VALUE=URI;X-ADDRESS=47 Dawson Street Dublin Dublin 2 Ireland;X-APPLE-RADIUS=500;X-TITLE=47 Dawson Street:geo:-6.2584803,53.3411552
END:VEVENT
BEGIN:VEVENT
DTSTART;TZID=UTC+0:20171103T110000
DTEND;TZID=UTC+0:20171103T123000
DTSTAMP:20171107T125108
CREATED:20171023T091224Z
LAST-MODIFIED:20171101T105813Z
UID:111953-1509706800-1509712200@www.noelgroup.ie
SUMMARY:Food Safety Level 1 | 11am - 12:30pm
DESCRIPTION:\n     jQuery( document ).ready(function() { jQuery('#iframe_69456').iFrameResize({ checkOrigin: false  }); setTimeout("if(jQuery('#iframe_69456').css('height') == '0px') { jQuery('#iframe_69456').css('height'\,'1500px'); }"\,2000); }); \n
URL:https://www.noelgroup.ie/course/food-safety-level-1-11am-1230pm/2017-11-03/
LOCATION:47 Dawson Street\, Dublin\, Dublin 2\, Ireland
GEO:53.3411552;-6.2584803
X-APPLE-STRUCTURED-LOCATION;VALUE=URI;X-ADDRESS=47 Dawson Street Dublin Dublin 2 Ireland;X-APPLE-RADIUS=500;X-TITLE=47 Dawson Street:geo:-6.2584803,53.3411552
END:VEVENT
BEGIN:VEVENT
DTSTART;TZID=UTC+0:20171103T140000
DTEND;TZID=UTC+0:20171103T163000
DTSTAMP:20171107T125108
CREATED:20171026T113746Z
LAST-MODIFIED:20171101T110155Z
UID:112445-1509717600-1509726600@www.noelgroup.ie
SUMMARY:Manual Handling | 2pm - 4:30pm
DESCRIPTION:\n     jQuery( document ).ready(function() { jQuery('#iframe_14463').iFrameResize({ checkOrigin: false  }); setTimeout("if(jQuery('#iframe_14463').css('height') == '0px') { jQuery('#iframe_14463').css('height'\,'1500px'); }"\,2000); }); \n
URL:https://www.noelgroup.ie/course/manual-handling-2pm-430pm/2017-11-03/
LOCATION:St. Johns House\, High Street\, Tallaght Village\, Dublin\, Leinster\, D24\, Ireland
GEO:53.2882388;-6.3638799
X-APPLE-STRUCTURED-LOCATION;VALUE=URI;X-ADDRESS=St. Johns House High Street Tallaght Village Dublin Leinster D24 Ireland;X-APPLE-RADIUS=500;X-TITLE=St. Johns House\, High Street\, Tallaght Village:geo:-6.3638799,53.2882388
END:VEVENT
BEGIN:VEVENT
DTSTART;TZID=UTC+0:20171103T163000
DTEND;TZID=UTC+0:20171103T180000
DTSTAMP:20171107T125108
CREATED:20171019T100355Z
LAST-MODIFIED:20171031T145758Z
UID:111428-1509726600-1509732000@www.noelgroup.ie
SUMMARY:Food Safety Level 1 | 4:30pm - 6pm
DESCRIPTION:\n     jQuery( document ).ready(function() { jQuery('#iframe_42827').iFrameResize({ checkOrigin: false  }); setTimeout("if(jQuery('#iframe_42827').css('height') == '0px') { jQuery('#iframe_42827').css('height'\,'1500px'); }"\,2000); }); \n
URL:https://www.noelgroup.ie/course/food-safety-level-1-430pm-6pm-6/2017-11-03/
LOCATION:St. Johns House\, High Street\, Tallaght Village\, Dublin\, Leinster\, D24\, Ireland
GEO:53.2882388;-6.3638799
X-APPLE-STRUCTURED-LOCATION;VALUE=URI;X-ADDRESS=St. Johns House High Street Tallaght Village Dublin Leinster D24 Ireland;X-APPLE-RADIUS=500;X-TITLE=St. Johns House\, High Street\, Tallaght Village:geo:-6.3638799,53.2882388
END:VEVENT
END:VCALENDAR